BEGIN:VCALENDAR
VERSION:2.0
PRODID:-//Parroquia Virgen del Alba - ECPv5.1.6//NONSGML v1.0//EN
CALSCALE:GREGORIAN
METHOD:PUBLISH
X-WR-CALNAME:Parroquia Virgen del Alba
X-ORIGINAL-URL:https://parroquiavirgendelalba.com
X-WR-CALDESC:Eventos para Parroquia Virgen del Alba
BEGIN:VTIMEZONE
TZID:UTC
BEGIN:STANDARD
TZOFFSETFROM:+0000
TZOFFSETTO:+0000
TZNAME:UTC
DTSTART:20210101T000000
END:STANDARD
END:VTIMEZONE
BEGIN:VEVENT
DTSTART;TZID=UTC:20210412T080000
DTEND;TZID=UTC:20210412T170000
DTSTAMP:20260422T144936
CREATED:20210412T111623Z
LAST-MODIFIED:20210412T111623Z
UID:1412-1618214400-1618246800@parroquiavirgendelalba.com
SUMMARY:AYÚDANOS A AYUDAR
DESCRIPTION:
URL:https://parroquiavirgendelalba.com/event/ayudanos-a-ayudar/
ATTACH;FMTTYPE=image/jpeg:https://parroquiavirgendelalba.com/wp-content/uploads/2021/04/SOS-INUNDACIONES-scaled.jpg
END:VEVENT
END:VCALENDAR