BEGIN:VCALENDAR
VERSION:2.0
PRODID:-//Parroquia Virgen del Alba - ECPv5.1.6//NONSGML v1.0//EN
CALSCALE:GREGORIAN
METHOD:PUBLISH
X-WR-CALNAME:Parroquia Virgen del Alba
X-ORIGINAL-URL:https://parroquiavirgendelalba.com
X-WR-CALDESC:Eventos para Parroquia Virgen del Alba
BEGIN:VTIMEZONE
TZID:UTC
BEGIN:STANDARD
TZOFFSETFROM:+0000
TZOFFSETTO:+0000
TZNAME:UTC
DTSTART:20190101T000000
END:STANDARD
END:VTIMEZONE
BEGIN:VEVENT
DTSTART;TZID=UTC:20190705T080000
DTEND;TZID=UTC:20190714T170000
DTSTAMP:20260422T184213
CREATED:20190424T141754Z
LAST-MODIFIED:20190424T141754Z
UID:186-1562313600-1563123600@parroquiavirgendelalba.com
SUMMARY:Campamento de verano 2019
DESCRIPTION:
URL:https://parroquiavirgendelalba.com/event/campamento-de-verano-2019/
END:VEVENT
END:VCALENDAR