BEGIN:VCALENDAR
VERSION:2.0
PRODID:-//Parroquia Virgen del Alba - ECPv5.1.6//NONSGML v1.0//EN
CALSCALE:GREGORIAN
METHOD:PUBLISH
X-WR-CALNAME:Parroquia Virgen del Alba
X-ORIGINAL-URL:https://parroquiavirgendelalba.com
X-WR-CALDESC:Eventos para Parroquia Virgen del Alba
BEGIN:VTIMEZONE
TZID:UTC
BEGIN:STANDARD
TZOFFSETFROM:+0000
TZOFFSETTO:+0000
TZNAME:UTC
DTSTART:20240101T000000
END:STANDARD
END:VTIMEZONE
BEGIN:VEVENT
DTSTART;TZID=UTC:20240203T080000
DTEND;TZID=UTC:20240203T170000
DTSTAMP:20260422T222359
CREATED:20240203T114000Z
LAST-MODIFIED:20240203T114000Z
UID:1974-1706947200-1706979600@parroquiavirgendelalba.com
SUMMARY:CENA DEL HAMBRE MANOS UNIDAS
DESCRIPTION:
URL:https://parroquiavirgendelalba.com/event/cena-del-hambre-manos-unidas/
ATTACH;FMTTYPE=image/jpeg:https://parroquiavirgendelalba.com/wp-content/uploads/2024/02/cena-del-hambre-2024-scaled.jpg
END:VEVENT
END:VCALENDAR