BEGIN:VCALENDAR
VERSION:2.0
PRODID:-//Parroquia Virgen del Alba - ECPv5.1.6//NONSGML v1.0//EN
CALSCALE:GREGORIAN
METHOD:PUBLISH
X-WR-CALNAME:Parroquia Virgen del Alba
X-ORIGINAL-URL:https://parroquiavirgendelalba.com
X-WR-CALDESC:Eventos para Parroquia Virgen del Alba
BEGIN:VTIMEZONE
TZID:UTC
BEGIN:STANDARD
TZOFFSETFROM:+0000
TZOFFSETTO:+0000
TZNAME:UTC
DTSTART:20240101T000000
END:STANDARD
END:VTIMEZONE
BEGIN:VEVENT
DTSTART;TZID=UTC:20240229T080000
DTEND;TZID=UTC:20240229T170000
DTSTAMP:20260423T010123
CREATED:20240229T170904Z
LAST-MODIFIED:20240229T170913Z
UID:2018-1709193600-1709226000@parroquiavirgendelalba.com
SUMMARY:NOCHE DE ADORACIÓN
DESCRIPTION:
URL:https://parroquiavirgendelalba.com/event/noche-de-adoracion/
ATTACH;FMTTYPE=image/jpeg:https://parroquiavirgendelalba.com/wp-content/uploads/2024/02/WhatsApp-Image-2024-02-28-at-11.41.38.jpeg
END:VEVENT
END:VCALENDAR